BEGIN:VCALENDAR
VERSION:2.0
PRODID:-//Auto- und Motorrad-Club Idstein e.V. im ADAC - ECPv6.0.6//NONSGML v1.0//EN
CALSCALE:GREGORIAN
METHOD:PUBLISH
X-ORIGINAL-URL:https://www.amc-idstein.de
X-WR-CALDESC:Veranstaltungen für Auto- und Motorrad-Club Idstein e.V. im ADAC
REFRESH-INTERVAL;VALUE=DURATION:PT1H
X-Robots-Tag:noindex
X-PUBLISHED-TTL:PT1H
BEGIN:VTIMEZONE
TZID:Europe/Berlin
BEGIN:DAYLIGHT
TZOFFSETFROM:+0100
TZOFFSETTO:+0200
TZNAME:CEST
DTSTART:20230326T010000
END:DAYLIGHT
BEGIN:STANDARD
TZOFFSETFROM:+0200
TZOFFSETTO:+0100
TZNAME:CET
DTSTART:20231029T010000
END:STANDARD
END:VTIMEZONE
BEGIN:VEVENT
DTSTART;TZID=Europe/Berlin:20230723T113000
DTEND;TZID=Europe/Berlin:20230723T140000
DTSTAMP:20260420T034301
CREATED:20230722T225256Z
LAST-MODIFIED:20230722T225256Z
UID:6603-1690111800-1690120800@www.amc-idstein.de
SUMMARY:Freies Training
DESCRIPTION:Gelände ab 11.30 Uhr geöffnet
URL:https://www.amc-idstein.de/event/freies-training-6/
CATEGORIES:Allgemein
END:VEVENT
END:VCALENDAR