BEGIN:VCALENDAR
VERSION:2.0
PRODID:-//Auto- und Motorrad-Club Idstein e.V. im ADAC - ECPv6.0.6//NONSGML v1.0//EN
CALSCALE:GREGORIAN
METHOD:PUBLISH
X-WR-CALNAME:Auto- und Motorrad-Club Idstein e.V. im ADAC
X-ORIGINAL-URL:https://www.amc-idstein.de
X-WR-CALDESC:Veranstaltungen für Auto- und Motorrad-Club Idstein e.V. im ADAC
REFRESH-INTERVAL;VALUE=DURATION:PT1H
X-Robots-Tag:noindex
X-PUBLISHED-TTL:PT1H
BEGIN:VTIMEZONE
TZID:Europe/Berlin
BEGIN:DAYLIGHT
TZOFFSETFROM:+0100
TZOFFSETTO:+0200
TZNAME:CEST
DTSTART:20260329T010000
END:DAYLIGHT
BEGIN:STANDARD
TZOFFSETFROM:+0200
TZOFFSETTO:+0100
TZNAME:CET
DTSTART:20261025T010000
END:STANDARD
END:VTIMEZONE
BEGIN:VEVENT
DTSTART;TZID=Europe/Berlin:20260425T130000
DTEND;TZID=Europe/Berlin:20260425T143000
DTSTAMP:20260425T021744
CREATED:20260309T080844Z
LAST-MODIFIED:20260408T065421Z
UID:8257-1777122000-1777127400@www.amc-idstein.de
SUMMARY:Schnupper-Training (Kind ab 10 Jahre)
DESCRIPTION:Wir bieten regelmäßig Schnuppertrainings an. Dort zeigen Dir erfahrene Fahrer die Grundlagen des Trial-Fahrens. Du hast außerdem die Möglichkeit\, erste Runden auf einer unserer Vereinsmaschinen zu drehen – natürlich kostenlos und unverbindlich.  \n\n\n\nSchutzausrüstung stellen wir natürlich zur Verfügung – soweit nicht schon vorhanden. Während des gesamten Probetrainings ist ein erfahrenes Vereinsmitglied anwesend und behilflich. Alle noch offenen Fragen kann dann der Trainer persönlich beantworten. \n\n\n\nDas Probetraining findet in der Regel zu unseren allgemeinen Fahrzeiten statt. Dann bekommst Du gleich einen Eindruck von unserem Vereinsleben und kannst die anderen Fahrer kennenlernen.  \n\n\n\nDas Training findet auf unserem Übungsgelände statt. Die Anfahrt ist hier beschrieben. \n\n\n\nDas Training findet bei jeder Witterung statt. Bitte sei pünktlich um 11 Uhr da. \n\n\n\nSolltest Du doch nicht teilnehmen können\, dann storniere bitte rechtzeitig über die Buchungsbestätigung\, die Du als E-Mail
URL:https://www.amc-idstein.de/event/schnupper-training-kind-ab-10-jahre-13/
CATEGORIES:Schnupper Training
END:VEVENT
BEGIN:VEVENT
DTSTART;TZID=Europe/Berlin:20260425T130000
DTEND;TZID=Europe/Berlin:20260425T143000
DTSTAMP:20260425T021744
CREATED:20260309T081308Z
LAST-MODIFIED:20260408T065431Z
UID:8253-1777122000-1777127400@www.amc-idstein.de
SUMMARY:Schnupper-Training (Kind bis 10 Jahre)
DESCRIPTION:Wir bieten regelmäßig Schnuppertrainings an. Dort zeigen Dir erfahrene Fahrer die Grundlagen des Trial-Fahrens. Du hast außerdem die Möglichkeit\, erste Runden auf einer unserer Vereinsmaschinen zu drehen – natürlich kostenlos und unverbindlich.  \n\n\n\nSchutzausrüstung stellen wir natürlich zur Verfügung – soweit nicht schon vorhanden. Während des gesamten Probetrainings ist ein erfahrenes Vereinsmitglied anwesend und behilflich. Alle noch offenen Fragen kann dann der Trainer persönlich beantworten. \n\n\n\nDas Probetraining findet in der Regel zu unseren allgemeinen Fahrzeiten statt. Dann bekommst Du gleich einen Eindruck von unserem Vereinsleben und kannst die anderen Fahrer kennenlernen.  \n\n\n\nDas Training findet auf unserem Übungsgelände statt. Die Anfahrt ist hier beschrieben. \n\n\n\nDas Training findet bei jeder Witterung statt. Bitte sei pünktlich um 11 Uhr da. \n\n\n\nSolltest Du doch nicht teilnehmen können\, dann storniere bitte rechtzeitig über die Buchungsbestätigung\, die Du als E-Mail
URL:https://www.amc-idstein.de/event/schnupper-training-kind-bis-10-jahre-23/
CATEGORIES:Schnupper Training
END:VEVENT
BEGIN:VEVENT
DTSTART;TZID=Europe/Berlin:20260425T130000
DTEND;TZID=Europe/Berlin:20260425T143000
DTSTAMP:20260425T021744
CREATED:20260309T081434Z
LAST-MODIFIED:20260408T065440Z
UID:8247-1777122000-1777127400@www.amc-idstein.de
SUMMARY:Schnupper-Training (Erwachsene)
DESCRIPTION:Wir bieten regelmäßig Schnuppertrainings an. Dort zeigen Dir erfahrene Fahrer die Grundlagen des Trial-Fahrens. Du hast außerdem die Möglichkeit\, erste Runden auf einer unserer Vereinsmaschinen zu drehen – natürlich kostenlos und unverbindlich.  \n\n\n\nSchutzausrüstung stellen wir natürlich zur Verfügung – soweit nicht schon vorhanden. Während des gesamten Probetrainings ist ein erfahrenes Vereinsmitglied anwesend und behilflich. Alle noch offenen Fragen kann dann der Trainer persönlich beantworten. \n\n\n\nDas Probetraining findet in der Regel zu unseren allgemeinen Fahrzeiten statt. Dann bekommst Du gleich einen Eindruck von unserem Vereinsleben und kannst die anderen Fahrer kennenlernen.  \n\n\n\nDas Training findet auf unserem Übungsgelände statt. Die Anfahrt ist hier beschrieben. \n\n\n\nDas Training findet bei jeder Witterung statt. Bitte sei pünktlich um 11 Uhr da. \n\n\n\nSolltest Du doch nicht teilnehmen können\, dann storniere bitte rechtzeitig über die Buchungsbestätigung\, die Du als E-Mail
URL:https://www.amc-idstein.de/event/schnupper-training-erwachsene-18/
CATEGORIES:Schnupper Training
END:VEVENT
END:VCALENDAR