BEGIN:VCALENDAR
VERSION:2.0
PRODID:-//Auto- und Motorrad-Club Idstein e.V. im ADAC - ECPv6.0.6//NONSGML v1.0//EN
CALSCALE:GREGORIAN
METHOD:PUBLISH
X-WR-CALNAME:Auto- und Motorrad-Club Idstein e.V. im ADAC
X-ORIGINAL-URL:https://www.amc-idstein.de
X-WR-CALDESC:Veranstaltungen für Auto- und Motorrad-Club Idstein e.V. im ADAC
REFRESH-INTERVAL;VALUE=DURATION:PT1H
X-Robots-Tag:noindex
X-PUBLISHED-TTL:PT1H
BEGIN:VTIMEZONE
TZID:Europe/Berlin
BEGIN:DAYLIGHT
TZOFFSETFROM:+0100
TZOFFSETTO:+0200
TZNAME:CEST
DTSTART:20260329T010000
END:DAYLIGHT
BEGIN:STANDARD
TZOFFSETFROM:+0200
TZOFFSETTO:+0100
TZNAME:CET
DTSTART:20261025T010000
END:STANDARD
END:VTIMEZONE
BEGIN:VEVENT
DTSTART;TZID=Europe/Berlin:20260421T000000
DTEND;TZID=Europe/Berlin:20260423T235959
DTSTAMP:20260421T014324
CREATED:20260206T125952Z
LAST-MODIFIED:20260206T125952Z
UID:8202-1776729600-1776988799@www.amc-idstein.de
SUMMARY:Kleidersammlung f. Bethel
DESCRIPTION:Ev. Kirche Idstein
URL:https://www.amc-idstein.de/event/kleidersammlung-f-bethel/
LOCATION:Clubheim\, In der Zissenbach 1\, Idstein\, 65510\, Deutschland
CATEGORIES:Veranstaltungen im Clubheim
END:VEVENT
BEGIN:VEVENT
DTSTART;TZID=Europe/Berlin:20260421T190000
DTEND;TZID=Europe/Berlin:20260421T213000
DTSTAMP:20260421T014324
CREATED:20260124T080718Z
LAST-MODIFIED:20260124T080718Z
UID:8182-1776798000-1776807000@www.amc-idstein.de
SUMMARY:Vorstandssitzung
DESCRIPTION:Vorstandssitzung im Clubheim (intern)
URL:https://www.amc-idstein.de/event/vorstandssitzung-9/
CATEGORIES:Vorstand
END:VEVENT
END:VCALENDAR